BEGIN:VCALENDAR
VERSION:2.0
PRODID:-//wm+a™ - Leading Evidence Based Service Provider - ECPv6.0.8//NONSGML v1.0//EN
CALSCALE:GREGORIAN
METHOD:PUBLISH
X-ORIGINAL-URL:https://www.wmanda.com
X-WR-CALDESC:Events for wm+a™ - Leading Evidence Based Service Provider
REFRESH-INTERVAL;VALUE=DURATION:PT1H
X-Robots-Tag:noindex
X-PUBLISHED-TTL:PT1H
BEGIN:VTIMEZONE
TZID:America/Toronto
BEGIN:DAYLIGHT
TZOFFSETFROM:-0500
TZOFFSETTO:-0400
TZNAME:EDT
DTSTART:20200308T070000
END:DAYLIGHT
BEGIN:STANDARD
TZOFFSETFROM:-0400
TZOFFSETTO:-0500
TZNAME:EST
DTSTART:20201101T060000
END:STANDARD
END:VTIMEZONE
BEGIN:VEVENT
DTSTART;TZID=America/Toronto:20200227T163000
DTEND;TZID=America/Toronto:20200227T230000
DTSTAMP:20260425T080510
CREATED:20200206T220900Z
LAST-MODIFIED:20200218T155357Z
UID:10000049-1582821000-1582844400@www.wmanda.com
SUMMARY:CPI Re-Certification
DESCRIPTION:Please Note: CPI\, SMG\, and UMAB both Full and Re-certification are available only for current associates affiliated with the organization.
URL:https://www.wmanda.com/calendar/cpi-re-certification-3/
LOCATION:wm+a\, 100 The East Mall\, Etobicoke\, Ontario\, M8Z 5X2
CATEGORIES:Crisis Intervention Trainings
END:VEVENT
BEGIN:VEVENT
DTSTART;TZID=America/Toronto:20200228T090000
DTEND;TZID=America/Toronto:20200228T170000
DTSTAMP:20260425T080510
CREATED:20200206T221111Z
LAST-MODIFIED:20200211T020324Z
UID:10000050-1582880400-1582909200@www.wmanda.com
SUMMARY:Applied Behavioural Analysis (ABA) Level 1
DESCRIPTION:Introduction to ABA \n\nIntroduction to Behaviour\, Reinforcement\, Punishment\, and Extinction\nPairing\, Instructional Control\, and Functions of Behaviour\nData Collection and Documentation\n\nPlease Note: Our ABA workshops are available only for current associates. However\, we can provide tailored ABA workshops for organizations\, professionals\, and parents. \nFor more information\, please call 416-367-5968
URL:https://www.wmanda.com/calendar/applied-behavioural-analysis-aba-level-1-2/
LOCATION:wm+a\, 100 The East Mall\, Etobicoke\, Ontario\, M8Z 5X2
CATEGORIES:wm+a Trainings
END:VEVENT
BEGIN:VEVENT
DTSTART;TZID=America/Toronto:20200305T163000
DTEND;TZID=America/Toronto:20200305T230000
DTSTAMP:20260425T080510
CREATED:20200207T170239Z
LAST-MODIFIED:20200218T155438Z
UID:10000051-1583425800-1583449200@www.wmanda.com
SUMMARY:CPI Full Certification
DESCRIPTION:Please Note: CPI\, SMG\, and UMAB both Full and Re-certification are available only for current associates affiliated with the organization.
URL:https://www.wmanda.com/calendar/cpi-full-certification-5/
LOCATION:wm+a\, 100 The East Mall\, Etobicoke\, Ontario\, M8Z 5X2
CATEGORIES:Crisis Intervention Trainings
END:VEVENT
BEGIN:VEVENT
DTSTART;TZID=America/Toronto:20200306T163000
DTEND;TZID=America/Toronto:20200306T230000
DTSTAMP:20260425T080510
CREATED:20200207T171758Z
LAST-MODIFIED:20200218T155543Z
UID:10000052-1583512200-1583535600@www.wmanda.com
SUMMARY:CPI Full Certification
DESCRIPTION:Please Note: CPI\, SMG\, and UMAB both Full and Re-certification are available only for current associates affiliated with the organization.
URL:https://www.wmanda.com/calendar/cpi-full-certification-6/
LOCATION:wm+a\, 100 The East Mall\, Etobicoke\, Ontario\, M8Z 5X2
CATEGORIES:Crisis Intervention Trainings
END:VEVENT
BEGIN:VEVENT
DTSTART;TZID=America/Toronto:20200314T090000
DTEND;TZID=America/Toronto:20200314T170000
DTSTAMP:20260425T080510
CREATED:20200207T173704Z
LAST-MODIFIED:20200306T195001Z
UID:10000055-1584176400-1584205200@www.wmanda.com
SUMMARY:Applied Behavioural Analysis (ABA) Level 1
DESCRIPTION:Introduction to ABA \n\nIntroduction to Behaviour\, Reinforcement\, Punishment\, and Extinction\nPairing\, Instructional Control\, and Functions of Behaviour\nData Collection and Documentation\n\nPlease Note: Our ABA workshops are available only for current associates. However\, we can provide tailored ABA workshops for organizations\, professionals\, and parents. \nFor more information\, please call 416-367-5968
URL:https://www.wmanda.com/calendar/applied-behavioural-analysis-aba-level-1-3/
LOCATION:wm+a\, 100 The East Mall\, Etobicoke\, Ontario\, M8Z 5X2
CATEGORIES:wm+a Trainings
END:VEVENT
BEGIN:VEVENT
DTSTART;TZID=America/Toronto:20200316T090000
DTEND;TZID=America/Toronto:20200316T170000
DTSTAMP:20260425T080510
CREATED:20200207T174011Z
LAST-MODIFIED:20200207T193715Z
UID:10000056-1584349200-1584378000@www.wmanda.com
SUMMARY:Applied Behavioural Analysis (ABA) Level 2
DESCRIPTION:Building Instructional Control \n\nSelecting and Conducting Preference Assessments\nGaining Instructional Control over Time\nUnderstanding and Implementing Compliance Drills\n\nPlease Note: Our ABA workshops are available only for current associates. However\, we can provide tailored ABA workshops for organizations\, professionals\, and parents. \nFor more information\, please call 416-367-5968
URL:https://www.wmanda.com/calendar/applied-behavioural-analysis-aba-level-2/
LOCATION:wm+a\, 100 The East Mall\, Etobicoke\, Ontario\, M8Z 5X2
CATEGORIES:wm+a Trainings
END:VEVENT
BEGIN:VEVENT
DTSTART;TZID=America/Toronto:20200317T150000
DTEND;TZID=America/Toronto:20200317T220000
DTSTAMP:20260425T080510
CREATED:20200207T174245Z
LAST-MODIFIED:20200218T155616Z
UID:10000057-1584457200-1584482400@www.wmanda.com
SUMMARY:CPI Re-Certification
DESCRIPTION:Please Note: CPI\, SMG\, and UMAB both Full and Re-certification are available only for current associates affiliated with the organization.
URL:https://www.wmanda.com/calendar/cpi-re-certification-5/
LOCATION:wm+a\, 100 The East Mall\, Etobicoke\, Ontario\, M8Z 5X2
CATEGORIES:Crisis Intervention Trainings
END:VEVENT
BEGIN:VEVENT
DTSTART;TZID=America/Toronto:20200319T150000
DTEND;TZID=America/Toronto:20200319T220000
DTSTAMP:20260425T080510
CREATED:20200207T174548Z
LAST-MODIFIED:20200218T155709Z
UID:10000058-1584630000-1584655200@www.wmanda.com
SUMMARY:SMG Full Certification
DESCRIPTION:Please Note: CPI\, SMG\, and UMAB both Full and Re-certification are available only for current associates affiliated with the organization.
URL:https://www.wmanda.com/calendar/smg-full-certification/
LOCATION:wm+a\, 100 The East Mall\, Etobicoke\, Ontario\, M8Z 5X2
CATEGORIES:Crisis Intervention Trainings
END:VEVENT
BEGIN:VEVENT
DTSTART;TZID=America/Toronto:20200320T150000
DTEND;TZID=America/Toronto:20200320T220000
DTSTAMP:20260425T080510
CREATED:20200207T174727Z
LAST-MODIFIED:20200218T155743Z
UID:10000059-1584716400-1584741600@www.wmanda.com
SUMMARY:SMG Full Certification
DESCRIPTION:Please Note: CPI\, SMG\, and UMAB both Full and Re-certification are available only for current associates affiliated with the organization.
URL:https://www.wmanda.com/calendar/smg-full-certification-2/
LOCATION:wm+a\, 100 The East Mall\, Etobicoke\, Ontario\, M8Z 5X2
CATEGORIES:Crisis Intervention Trainings
END:VEVENT
BEGIN:VEVENT
DTSTART;TZID=America/Toronto:20200321T090000
DTEND;TZID=America/Toronto:20200321T170000
DTSTAMP:20260425T080510
CREATED:20200207T174827Z
LAST-MODIFIED:20200218T155818Z
UID:10000060-1584781200-1584810000@www.wmanda.com
SUMMARY:CPI Full Certification
DESCRIPTION:Please Note: CPI\, SMG\, and UMAB both Full and Re-certification are available only for current associates affiliated with the organization.
URL:https://www.wmanda.com/calendar/cpi-full-certification-7/
LOCATION:wm+a\, 100 The East Mall\, Etobicoke\, Ontario\, M8Z 5X2
CATEGORIES:Crisis Intervention Trainings
END:VEVENT
BEGIN:VEVENT
DTSTART;TZID=America/Toronto:20200322T090000
DTEND;TZID=America/Toronto:20200322T170000
DTSTAMP:20260425T080510
CREATED:20200207T174942Z
LAST-MODIFIED:20200218T155850Z
UID:10000061-1584867600-1584896400@www.wmanda.com
SUMMARY:CPI Full Certification
DESCRIPTION:Please Note: CPI\, SMG\, and UMAB both Full and Re-certification are available only for current associates affiliated with the organization.
URL:https://www.wmanda.com/calendar/cpi-full-certification-8/
LOCATION:wm+a\, 100 The East Mall\, Etobicoke\, Ontario\, M8Z 5X2
CATEGORIES:Crisis Intervention Trainings
END:VEVENT
BEGIN:VEVENT
DTSTART;TZID=America/Toronto:20200324T090000
DTEND;TZID=America/Toronto:20200324T170000
DTSTAMP:20260425T080510
CREATED:20200207T175217Z
LAST-MODIFIED:20200306T195055Z
UID:10000062-1585040400-1585069200@www.wmanda.com
SUMMARY:Applied Behavioural Analysis (ABA) Level 1
DESCRIPTION:Introduction to ABA \n\nIntroduction to Behaviour\, Reinforcement\, Punishment\, and Extinction\nPairing\, Instructional Control\, and Functions of Behaviour\nData Collection and Documentation\n\nPlease Note: Our ABA workshops are available only for current associates. However\, we can provide tailored ABA workshops for organizations\, professionals\, and parents. \nFor more information\, please call 416-367-5968
URL:https://www.wmanda.com/calendar/applied-behavioural-analysis-aba-level-1-4/
LOCATION:wm+a\, 100 The East Mall\, Etobicoke\, Ontario\, M8Z 5X2
CATEGORIES:wm+a Trainings
END:VEVENT
BEGIN:VEVENT
DTSTART;TZID=America/Toronto:20200326T163000
DTEND;TZID=America/Toronto:20200326T230000
DTSTAMP:20260425T080510
CREATED:20200207T175517Z
LAST-MODIFIED:20200218T155923Z
UID:10000063-1585240200-1585263600@www.wmanda.com
SUMMARY:CPI Re-Certification
DESCRIPTION:Please Note: CPI\, SMG\, and UMAB both Full and Re-certification are available only for current associates affiliated with the organization.
URL:https://www.wmanda.com/calendar/cpi-re-certification-6/
LOCATION:wm+a\, 100 The East Mall\, Etobicoke\, Ontario\, M8Z 5X2
CATEGORIES:Crisis Intervention Trainings
END:VEVENT
BEGIN:VEVENT
DTSTART;TZID=America/Toronto:20200328T090000
DTEND;TZID=America/Toronto:20200328T170000
DTSTAMP:20260425T080510
CREATED:20200207T175718Z
LAST-MODIFIED:20200218T160005Z
UID:10000064-1585386000-1585414800@www.wmanda.com
SUMMARY:SMG Re-Certification
DESCRIPTION:Please Note: CPI\, SMG\, and UMAB both Full and Re-certification are available only for current associates affiliated with the organization.
URL:https://www.wmanda.com/calendar/smg-re-certification/
LOCATION:wm+a\, 100 The East Mall\, Etobicoke\, Ontario\, M8Z 5X2
CATEGORIES:Crisis Intervention Trainings
END:VEVENT
BEGIN:VEVENT
DTSTART;TZID=America/Toronto:20200402T163000
DTEND;TZID=America/Toronto:20200402T230000
DTSTAMP:20260425T080510
CREATED:20200305T164916Z
LAST-MODIFIED:20200305T164916Z
UID:10000066-1585845000-1585868400@www.wmanda.com
SUMMARY:CPI Full Certification
DESCRIPTION:Please Note: CPI\, SMG\, and UMAB both Full and Re-certification are available only for current associates affiliated with the organization.
URL:https://www.wmanda.com/calendar/cpi-full-certification-9/
LOCATION:wm+a\, 100 The East Mall\, Etobicoke\, Ontario\, M8Z 5X2
CATEGORIES:Crisis Intervention Trainings
END:VEVENT
BEGIN:VEVENT
DTSTART;TZID=America/Toronto:20200403T163000
DTEND;TZID=America/Toronto:20200403T230000
DTSTAMP:20260425T080510
CREATED:20200305T165155Z
LAST-MODIFIED:20200305T165155Z
UID:10000067-1585931400-1585954800@www.wmanda.com
SUMMARY:CPI Full Certification
DESCRIPTION:Please Note: CPI\, SMG\, and UMAB both Full and Re-certification are available only for current associates affiliated with the organization.
URL:https://www.wmanda.com/calendar/cpi-full-certification-10/
LOCATION:wm+a\, 100 The East Mall\, Etobicoke\, Ontario\, M8Z 5X2
CATEGORIES:Crisis Intervention Trainings
END:VEVENT
BEGIN:VEVENT
DTSTART;TZID=America/Toronto:20200404T090000
DTEND;TZID=America/Toronto:20200404T170000
DTSTAMP:20260425T080510
CREATED:20200306T200044Z
LAST-MODIFIED:20200306T201120Z
UID:10000078-1585990800-1586019600@www.wmanda.com
SUMMARY:Pharmacology with Dr. Qureshi
DESCRIPTION:Module 1: Legal Considerations \nModule 2: Introduction of Pharmacology \nModule 3: Client Safety\, Ethics & Communication \nModule 4: Childhood Illnesses \nFor more information\, please call 416-367-5968
URL:https://www.wmanda.com/calendar/pharmacology-with-dr-qureshi/
LOCATION:wm+a\, 100 The East Mall\, Etobicoke\, Ontario\, M8Z 5X2
CATEGORIES:wm+a Trainings
END:VEVENT
BEGIN:VEVENT
DTSTART;TZID=America/Toronto:20200407T090000
DTEND;TZID=America/Toronto:20200407T170000
DTSTAMP:20260425T080510
CREATED:20200305T165456Z
LAST-MODIFIED:20200305T165456Z
UID:10000068-1586250000-1586278800@www.wmanda.com
SUMMARY:Applied Behavioural Analysis (ABA) Level 1
DESCRIPTION:Introduction to ABA \n\nIntroduction to Behaviour\, Reinforcement\, Punishment\, and Extinction\nPairing\, Instructional Control\, and Functions of Behaviour\nData Collection and Documentation\n\nPlease Note: Our ABA workshops are available only for current associates. However\, we can provide tailored ABA workshops for organizations\, professionals\, and parents. \nFor more information\, please call 416-367-5968
URL:https://www.wmanda.com/calendar/applied-behavioural-analysis-aba-level-1-5/
LOCATION:wm+a\, 100 The East Mall\, Etobicoke\, Ontario\, M8Z 5X2
CATEGORIES:wm+a Trainings
END:VEVENT
BEGIN:VEVENT
DTSTART;TZID=America/Toronto:20200408T163000
DTEND;TZID=America/Toronto:20200408T230000
DTSTAMP:20260425T080510
CREATED:20200305T170012Z
LAST-MODIFIED:20200305T170012Z
UID:10000070-1586363400-1586386800@www.wmanda.com
SUMMARY:CPI Re-Certification
DESCRIPTION:Please Note: CPI\, SMG\, and UMAB both Full and Re-certification are available only for current associates affiliated with the organization.
URL:https://www.wmanda.com/calendar/cpi-re-certification-7/
LOCATION:wm+a\, 100 The East Mall\, Etobicoke\, Ontario\, M8Z 5X2
CATEGORIES:Crisis Intervention Trainings
END:VEVENT
BEGIN:VEVENT
DTSTART;TZID=America/Toronto:20200409T091500
DTEND;TZID=America/Toronto:20200409T121500
DTSTAMP:20260425T080510
CREATED:20200305T172349Z
LAST-MODIFIED:20200305T172349Z
UID:10000077-1586423700-1586434500@www.wmanda.com
SUMMARY:AlphaBee Pro ABA Workshop - Looking at me\, Looking at you. Register Now.
DESCRIPTION:Establishing Eye Contact and Joint Attention in Children with Autism Spectrum Disorders \nThis presentation will review various procedures for developing eye contact and joint attention and participants will leave with examples of specific programs for increasing these skills. \nParticipants will: \nIdentify why eye contact is important in the development of various skills and the importance of an analysis of the controlling variables for eye contact \n\nDescribe procedures for teaching joint attention: responding and initiating\nDescribe procedures for teaching to follow eye gaze\nDescribe the procedures for establishing others as discriminative stimuli and reinforcers\, and conditioning eye contact as a reinforcer\n\nThese workshops are designed for those who are implementing skill acquisition programming and have a basic understanding of Skinner’s Analysis of Verbal Behaviour. Educators\, BCBA\, BCaBA\, RBT as well as parents may benefit from these workshops. \n3 Type 2 CEU’s available at the workshop \nPresented by: Pam Lawrynowycz MA\, BCBA; Lisa Kota M.ADS\, BCBA; Menna Mahrous MA\, BCBA; Dana Pettus M.ADS\, BCBA \nABA Workshop Registration
URL:https://www.wmanda.com/calendar/alphabee-pro-aba-workshop-looking-at-me-looking-at-you-register-now/
LOCATION:wm+a\, 100 The East Mall\, Etobicoke\, Ontario\, M8Z 5X2
CATEGORIES:AlphaBee Pro Workshops
END:VEVENT
BEGIN:VEVENT
DTSTART;TZID=America/Toronto:20200416T163000
DTEND;TZID=America/Toronto:20200416T230000
DTSTAMP:20260425T080510
CREATED:20200305T171206Z
LAST-MODIFIED:20200305T171206Z
UID:10000073-1587054600-1587078000@www.wmanda.com
SUMMARY:CPI Full Certification
DESCRIPTION:Please Note: CPI\, SMG\, and UMAB both Full and Re-certification are available only for current associates affiliated with the organization.
URL:https://www.wmanda.com/calendar/cpi-full-certification-11/
LOCATION:wm+a\, 100 The East Mall\, Etobicoke\, Ontario\, M8Z 5X2
CATEGORIES:Crisis Intervention Trainings
END:VEVENT
BEGIN:VEVENT
DTSTART;TZID=America/Toronto:20200417T163000
DTEND;TZID=America/Toronto:20200417T230000
DTSTAMP:20260425T080510
CREATED:20200305T171420Z
LAST-MODIFIED:20200305T171420Z
UID:10000074-1587141000-1587164400@www.wmanda.com
SUMMARY:CPI Full Certification
DESCRIPTION:Please Note: CPI\, SMG\, and UMAB both Full and Re-certification are available only for current associates affiliated with the organization.
URL:https://www.wmanda.com/calendar/cpi-full-certification-12/
LOCATION:wm+a\, 100 The East Mall\, Etobicoke\, Ontario\, M8Z 5X2
CATEGORIES:Crisis Intervention Trainings
END:VEVENT
BEGIN:VEVENT
DTSTART;TZID=America/Toronto:20200418T090000
DTEND;TZID=America/Toronto:20200418T170000
DTSTAMP:20260425T080510
CREATED:20200305T170747Z
LAST-MODIFIED:20200305T170747Z
UID:10000071-1587200400-1587229200@www.wmanda.com
SUMMARY:CPI Re-Certification
DESCRIPTION:Please Note: CPI\, SMG\, and UMAB both Full and Re-certification are available only for current associates affiliated with the organization.
URL:https://www.wmanda.com/calendar/cpi-re-certification-8/
LOCATION:wm+a\, 100 The East Mall\, Etobicoke\, Ontario\, M8Z 5X2
CATEGORIES:Crisis Intervention Trainings
END:VEVENT
BEGIN:VEVENT
DTSTART;TZID=America/Toronto:20200424T090000
DTEND;TZID=America/Toronto:20200424T170000
DTSTAMP:20260425T080510
CREATED:20200305T165711Z
LAST-MODIFIED:20200305T165711Z
UID:10000069-1587718800-1587747600@www.wmanda.com
SUMMARY:Applied Behavioural Analysis (ABA) Level 1
DESCRIPTION:Introduction to ABA \n\nIntroduction to Behaviour\, Reinforcement\, Punishment\, and Extinction\nPairing\, Instructional Control\, and Functions of Behaviour\nData Collection and Documentation\n\nPlease Note: Our ABA workshops are available only for current associates. However\, we can provide tailored ABA workshops for organizations\, professionals\, and parents. \nFor more information\, please call 416-367-5968
URL:https://www.wmanda.com/calendar/applied-behavioural-analysis-aba-level-1-6/
LOCATION:wm+a\, 100 The East Mall\, Etobicoke\, Ontario\, M8Z 5X2
CATEGORIES:wm+a Trainings
END:VEVENT
BEGIN:VEVENT
DTSTART;TZID=America/Toronto:20200425T090000
DTEND;TZID=America/Toronto:20200425T170000
DTSTAMP:20260425T080510
CREATED:20200305T171700Z
LAST-MODIFIED:20200305T171700Z
UID:10000075-1587805200-1587834000@www.wmanda.com
SUMMARY:SMG Re-Certification
DESCRIPTION:Please Note: CPI\, SMG\, and UMAB both Full and Re-certification are available only for current associates affiliated with the organization.
URL:https://www.wmanda.com/calendar/smg-re-certification-2/
LOCATION:wm+a\, 100 The East Mall\, Etobicoke\, Ontario\, M8Z 5X2
CATEGORIES:Crisis Intervention Trainings
END:VEVENT
END:VCALENDAR