BEGIN:VCALENDAR
VERSION:2.0
PRODID:-//wm+a™ - Leading Evidence Based Service Provider - ECPv6.0.8//NONSGML v1.0//EN
CALSCALE:GREGORIAN
METHOD:PUBLISH
X-ORIGINAL-URL:https://www.wmanda.com
X-WR-CALDESC:Events for wm+a™ - Leading Evidence Based Service Provider
REFRESH-INTERVAL;VALUE=DURATION:PT1H
X-Robots-Tag:noindex
X-PUBLISHED-TTL:PT1H
BEGIN:VTIMEZONE
TZID:America/Toronto
BEGIN:DAYLIGHT
TZOFFSETFROM:-0500
TZOFFSETTO:-0400
TZNAME:EDT
DTSTART:20200308T070000
END:DAYLIGHT
BEGIN:STANDARD
TZOFFSETFROM:-0400
TZOFFSETTO:-0500
TZNAME:EST
DTSTART:20201101T060000
END:STANDARD
END:VTIMEZONE
BEGIN:VEVENT
DTSTART;TZID=America/Toronto:20200322T090000
DTEND;TZID=America/Toronto:20200322T170000
DTSTAMP:20260419T192538
CREATED:20200207T174942Z
LAST-MODIFIED:20200218T155850Z
UID:10000061-1584867600-1584896400@www.wmanda.com
SUMMARY:CPI Full Certification
DESCRIPTION:Please Note: CPI\, SMG\, and UMAB both Full and Re-certification are available only for current associates affiliated with the organization.
URL:https://www.wmanda.com/calendar/cpi-full-certification-8/
LOCATION:wm+a\, 100 The East Mall\, Etobicoke\, Ontario\, M8Z 5X2
CATEGORIES:Crisis Intervention Trainings
END:VEVENT
BEGIN:VEVENT
DTSTART;TZID=America/Toronto:20200321T090000
DTEND;TZID=America/Toronto:20200321T170000
DTSTAMP:20260419T192538
CREATED:20200207T174827Z
LAST-MODIFIED:20200218T155818Z
UID:10000060-1584781200-1584810000@www.wmanda.com
SUMMARY:CPI Full Certification
DESCRIPTION:Please Note: CPI\, SMG\, and UMAB both Full and Re-certification are available only for current associates affiliated with the organization.
URL:https://www.wmanda.com/calendar/cpi-full-certification-7/
LOCATION:wm+a\, 100 The East Mall\, Etobicoke\, Ontario\, M8Z 5X2
CATEGORIES:Crisis Intervention Trainings
END:VEVENT
BEGIN:VEVENT
DTSTART;TZID=America/Toronto:20200320T150000
DTEND;TZID=America/Toronto:20200320T220000
DTSTAMP:20260419T192538
CREATED:20200207T174727Z
LAST-MODIFIED:20200218T155743Z
UID:10000059-1584716400-1584741600@www.wmanda.com
SUMMARY:SMG Full Certification
DESCRIPTION:Please Note: CPI\, SMG\, and UMAB both Full and Re-certification are available only for current associates affiliated with the organization.
URL:https://www.wmanda.com/calendar/smg-full-certification-2/
LOCATION:wm+a\, 100 The East Mall\, Etobicoke\, Ontario\, M8Z 5X2
CATEGORIES:Crisis Intervention Trainings
END:VEVENT
BEGIN:VEVENT
DTSTART;TZID=America/Toronto:20200319T150000
DTEND;TZID=America/Toronto:20200319T220000
DTSTAMP:20260419T192538
CREATED:20200207T174548Z
LAST-MODIFIED:20200218T155709Z
UID:10000058-1584630000-1584655200@www.wmanda.com
SUMMARY:SMG Full Certification
DESCRIPTION:Please Note: CPI\, SMG\, and UMAB both Full and Re-certification are available only for current associates affiliated with the organization.
URL:https://www.wmanda.com/calendar/smg-full-certification/
LOCATION:wm+a\, 100 The East Mall\, Etobicoke\, Ontario\, M8Z 5X2
CATEGORIES:Crisis Intervention Trainings
END:VEVENT
BEGIN:VEVENT
DTSTART;TZID=America/Toronto:20200317T150000
DTEND;TZID=America/Toronto:20200317T220000
DTSTAMP:20260419T192538
CREATED:20200207T174245Z
LAST-MODIFIED:20200218T155616Z
UID:10000057-1584457200-1584482400@www.wmanda.com
SUMMARY:CPI Re-Certification
DESCRIPTION:Please Note: CPI\, SMG\, and UMAB both Full and Re-certification are available only for current associates affiliated with the organization.
URL:https://www.wmanda.com/calendar/cpi-re-certification-5/
LOCATION:wm+a\, 100 The East Mall\, Etobicoke\, Ontario\, M8Z 5X2
CATEGORIES:Crisis Intervention Trainings
END:VEVENT
BEGIN:VEVENT
DTSTART;TZID=America/Toronto:20200306T163000
DTEND;TZID=America/Toronto:20200306T230000
DTSTAMP:20260419T192538
CREATED:20200207T171758Z
LAST-MODIFIED:20200218T155543Z
UID:10000052-1583512200-1583535600@www.wmanda.com
SUMMARY:CPI Full Certification
DESCRIPTION:Please Note: CPI\, SMG\, and UMAB both Full and Re-certification are available only for current associates affiliated with the organization.
URL:https://www.wmanda.com/calendar/cpi-full-certification-6/
LOCATION:wm+a\, 100 The East Mall\, Etobicoke\, Ontario\, M8Z 5X2
CATEGORIES:Crisis Intervention Trainings
END:VEVENT
BEGIN:VEVENT
DTSTART;TZID=America/Toronto:20200305T163000
DTEND;TZID=America/Toronto:20200305T230000
DTSTAMP:20260419T192538
CREATED:20200207T170239Z
LAST-MODIFIED:20200218T155438Z
UID:10000051-1583425800-1583449200@www.wmanda.com
SUMMARY:CPI Full Certification
DESCRIPTION:Please Note: CPI\, SMG\, and UMAB both Full and Re-certification are available only for current associates affiliated with the organization.
URL:https://www.wmanda.com/calendar/cpi-full-certification-5/
LOCATION:wm+a\, 100 The East Mall\, Etobicoke\, Ontario\, M8Z 5X2
CATEGORIES:Crisis Intervention Trainings
END:VEVENT
BEGIN:VEVENT
DTSTART;TZID=America/Toronto:20200227T163000
DTEND;TZID=America/Toronto:20200227T230000
DTSTAMP:20260419T192538
CREATED:20200206T220900Z
LAST-MODIFIED:20200218T155357Z
UID:10000049-1582821000-1582844400@www.wmanda.com
SUMMARY:CPI Re-Certification
DESCRIPTION:Please Note: CPI\, SMG\, and UMAB both Full and Re-certification are available only for current associates affiliated with the organization.
URL:https://www.wmanda.com/calendar/cpi-re-certification-3/
LOCATION:wm+a\, 100 The East Mall\, Etobicoke\, Ontario\, M8Z 5X2
CATEGORIES:Crisis Intervention Trainings
END:VEVENT
BEGIN:VEVENT
DTSTART;TZID=America/Toronto:20200222T090000
DTEND;TZID=America/Toronto:20200222T170000
DTSTAMP:20260419T192538
CREATED:20200206T220339Z
LAST-MODIFIED:20200218T155332Z
UID:10000048-1582362000-1582390800@www.wmanda.com
SUMMARY:CPI Re-Certification
DESCRIPTION:Please Note: CPI\, SMG\, and UMAB both Full and Re-certification are available only for current associates affiliated with the organization.
URL:https://www.wmanda.com/calendar/cpi-re-certification-2/
LOCATION:wm+a\, 100 The East Mall\, Etobicoke\, Ontario\, M8Z 5X2
CATEGORIES:Crisis Intervention Trainings
END:VEVENT
BEGIN:VEVENT
DTSTART;TZID=America/Toronto:20200221T043000
DTEND;TZID=America/Toronto:20200221T230000
DTSTAMP:20260419T192538
CREATED:20200206T215552Z
LAST-MODIFIED:20200218T155304Z
UID:10000047-1582259400-1582326000@www.wmanda.com
SUMMARY:CPI Full Certification
DESCRIPTION:Please note: CPI\, SMG\, and UMAB both Full and Re-certification are available only for current associates affiliated with the organization.
URL:https://www.wmanda.com/calendar/cpi-full-certification-4/
LOCATION:wm+a\, 100 The East Mall\, Etobicoke\, Ontario\, M8Z 5X2
CATEGORIES:Crisis Intervention Trainings
END:VEVENT
BEGIN:VEVENT
DTSTART;TZID=America/Toronto:20200220T163000
DTEND;TZID=America/Toronto:20200220T230000
DTSTAMP:20260419T192538
CREATED:20200206T215338Z
LAST-MODIFIED:20200218T155213Z
UID:10000046-1582216200-1582239600@www.wmanda.com
SUMMARY:CPI Full Certification
DESCRIPTION:Please Note: CPI\, SMG\, and UMAB both Full and Re-certification are available only for current associates affiliated with the organization.
URL:https://www.wmanda.com/calendar/cpi-full-certification-3/
LOCATION:wm+a\, 100 The East Mall\, Etobicoke\, Ontario\, M8Z 5X2
CATEGORIES:Crisis Intervention Trainings
END:VEVENT
BEGIN:VEVENT
DTSTART;TZID=America/Toronto:20200214T090000
DTEND;TZID=America/Toronto:20200214T170000
DTSTAMP:20260419T192538
CREATED:20200207T173509Z
LAST-MODIFIED:20200218T154823Z
UID:10000054-1581670800-1581699600@www.wmanda.com
SUMMARY:CPI Re-Certification
DESCRIPTION:Please Note: CPI\, SMG\, and UMAB both Full and Re-certification are available only for current associates affiliated with the organization.
URL:https://www.wmanda.com/calendar/cpi-re-certification-4/
LOCATION:wm+a\, 100 The East Mall\, Etobicoke\, Ontario\, M8Z 5X2
CATEGORIES:Crisis Intervention Trainings
END:VEVENT
BEGIN:VEVENT
DTSTART;TZID=America/Toronto:20200211T163000
DTEND;TZID=America/Toronto:20200211T230000
DTSTAMP:20260419T192538
CREATED:20200206T212657Z
LAST-MODIFIED:20200218T155127Z
UID:10000044-1581438600-1581462000@www.wmanda.com
SUMMARY:CPI Re-Certification
DESCRIPTION:Please Note: CPI\, SMG\, and UMAB both Full and Re-certification are available only for current associates affiliated with the organization.
URL:https://www.wmanda.com/calendar/cpo-re-certification/
LOCATION:wm+a\, 100 The East Mall\, Etobicoke\, Ontario\, M8Z 5X2
CATEGORIES:Crisis Intervention Trainings
END:VEVENT
BEGIN:VEVENT
DTSTART;TZID=America/Toronto:20200208T090000
DTEND;TZID=America/Toronto:20200208T170000
DTSTAMP:20260419T192538
CREATED:20200206T212455Z
LAST-MODIFIED:20200218T155034Z
UID:10000043-1581152400-1581181200@www.wmanda.com
SUMMARY:CPI Re-Certification
DESCRIPTION:Please Note: CPI\, SMG\, and UMAB both Full and Re-certification are available only for current associates affiliated with the organization.
URL:https://www.wmanda.com/calendar/cpi-re-certification/
LOCATION:wm+a\, 100 The East Mall\, Etobicoke\, Ontario\, M8Z 5X2
CATEGORIES:Crisis Intervention Trainings
END:VEVENT
BEGIN:VEVENT
DTSTART;TZID=America/Toronto:20200207T163000
DTEND;TZID=America/Toronto:20200207T230000
DTSTAMP:20260419T192538
CREATED:20200206T211818Z
LAST-MODIFIED:20200218T154959Z
UID:10000042-1581093000-1581116400@www.wmanda.com
SUMMARY:CPI Full Certification
DESCRIPTION:Please Note: CPI\, SMG\, and UMAB both Full and Re-certification are available only for current associates affiliated with the organization.
URL:https://www.wmanda.com/calendar/cpi-full-certification-2/
LOCATION:wm+a\, 100 The East Mall\, Etobicoke\, Ontario\, M8Z 5X2
CATEGORIES:Crisis Intervention Trainings
END:VEVENT
BEGIN:VEVENT
DTSTART;TZID=America/Toronto:20200206T163000
DTEND;TZID=America/Toronto:20200206T230000
DTSTAMP:20260419T192538
CREATED:20200206T201006Z
LAST-MODIFIED:20200218T154917Z
UID:10000041-1581006600-1581030000@www.wmanda.com
SUMMARY:CPI Full Certification
DESCRIPTION:Please Note: CPI\, SMG\, and UMAB both Full and Re-certification are available only for current associates affiliated with the organization.
URL:https://www.wmanda.com/calendar/cpi-full-certification/
LOCATION:wm+a\, 100 The East Mall\, Etobicoke\, Ontario\, M8Z 5X2
CATEGORIES:Crisis Intervention Trainings
END:VEVENT
END:VCALENDAR